Package: cageminer Version: 1.13.0 Command: /Library/Frameworks/R.framework/Resources/bin/R CMD build --keep-empty-dirs --no-resave-data cageminer StartedAt: 2025-02-20 16:05:45 -0500 (Thu, 20 Feb 2025) EndedAt: 2025-02-20 16:08:03 -0500 (Thu, 20 Feb 2025) EllapsedTime: 138.2 seconds RetCode: 0 Status: OK PackageFile: cageminer_1.13.0.tar.gz PackageFileSize: 1.416 MiB