Package: cageminer Version: 1.13.0 Command: /Library/Frameworks/R.framework/Resources/bin/R CMD INSTALL cageminer StartedAt: 2025-02-20 15:27:07 -0500 (Thu, 20 Feb 2025) EndedAt: 2025-02-20 15:27:30 -0500 (Thu, 20 Feb 2025) EllapsedTime: 22.3 seconds RetCode: 0 Status: OK