Package: cTRAP Version: 1.25.0 Command: E:\biocbuild\bbs-3.21-bioc\R\bin\R.exe CMD INSTALL cTRAP StartedAt: 2025-02-18 15:54:03 -0500 (Tue, 18 Feb 2025) EndedAt: 2025-02-18 15:55:14 -0500 (Tue, 18 Feb 2025) EllapsedTime: 71.2 seconds RetCode: 0 Status: OK