Package: cTRAP Version: 1.25.0 Command: E:\biocbuild\bbs-3.21-bioc\R\bin\R.exe CMD check --no-multiarch --install=check:cTRAP.install-out.txt --library=E:\biocbuild\bbs-3.21-bioc\R\library --no-vignettes --timings cTRAP_1.25.0.tar.gz StartedAt: 2025-02-19 00:01:36 -0500 (Wed, 19 Feb 2025) EndedAt: 2025-02-19 00:15:26 -0500 (Wed, 19 Feb 2025) EllapsedTime: 830.2 seconds RetCode: 0 Status: OK CheckDir: cTRAP.Rcheck Warnings: 0