Package: cTRAP Version: 1.25.0 Command: /Library/Frameworks/R.framework/Resources/bin/R CMD INSTALL cTRAP StartedAt: 2025-02-19 15:31:10 -0500 (Wed, 19 Feb 2025) EndedAt: 2025-02-19 15:31:52 -0500 (Wed, 19 Feb 2025) EllapsedTime: 41.6 seconds RetCode: 0 Status: OK