Package: cTRAP Version: 1.25.0 Command: /Library/Frameworks/R.framework/Resources/bin/R CMD check --install=check:cTRAP.install-out.txt --library=/Library/Frameworks/R.framework/Resources/library --no-vignettes --timings cTRAP_1.25.0.tar.gz StartedAt: 2025-02-19 19:46:46 -0500 (Wed, 19 Feb 2025) EndedAt: 2025-02-19 19:58:32 -0500 (Wed, 19 Feb 2025) EllapsedTime: 705.0 seconds RetCode: 0 Status: OK CheckDir: cTRAP.Rcheck Warnings: 0