Package: cBioPortalData Version: 2.19.9 Command: /home/biocbuild/R/R/bin/R CMD INSTALL cBioPortalData StartedAt: 2025-01-29 20:05:57 -0000 (Wed, 29 Jan 2025) EndedAt: 2025-01-29 20:06:55 -0000 (Wed, 29 Jan 2025) EllapsedTime: 58.5 seconds RetCode: 0 Status: OK