Package: cBioPortalData Version: 2.19.13 Maintainer: Marcel Ramos MaintainerEmail: marcel.ramos at sph.cuny.edu git_url: https://git.bioconductor.org/packages/cBioPortalData git_branch: devel git_last_commit: 3c20326 git_last_commit_date: 2025-02-11 16:17:51 -0500 (Tue, 11 Feb 2025)