Package: bumphunter Version: 1.49.0 Command: /home/biocbuild/bbs-3.21-bioc/R/bin/R CMD INSTALL bumphunter StartedAt: 2025-02-19 15:39:47 -0500 (Wed, 19 Feb 2025) EndedAt: 2025-02-19 15:40:22 -0500 (Wed, 19 Feb 2025) EllapsedTime: 35.2 seconds RetCode: 0 Status: OK