Package: bumphunter Version: 1.49.0 Command: /Library/Frameworks/R.framework/Resources/bin/R CMD build --keep-empty-dirs --no-resave-data bumphunter StartedAt: 2025-02-19 16:05:31 -0500 (Wed, 19 Feb 2025) EndedAt: 2025-02-19 16:06:23 -0500 (Wed, 19 Feb 2025) EllapsedTime: 51.4 seconds RetCode: 0 Status: OK PackageFile: bumphunter_1.49.0.tar.gz PackageFileSize: 2.365 MiB