Package: bumphunter Version: 1.49.0 Command: /Library/Frameworks/R.framework/Resources/bin/R CMD build --keep-empty-dirs --no-resave-data bumphunter StartedAt: 2025-02-20 15:45:49 -0500 (Thu, 20 Feb 2025) EndedAt: 2025-02-20 15:46:11 -0500 (Thu, 20 Feb 2025) EllapsedTime: 22.3 seconds RetCode: 0 Status: OK PackageFile: bumphunter_1.49.0.tar.gz PackageFileSize: 2.365 MiB