Package: bugsigdbr Version: 1.13.0 Command: /Library/Frameworks/R.framework/Resources/bin/R CMD INSTALL bugsigdbr StartedAt: 2025-02-20 15:12:56 -0500 (Thu, 20 Feb 2025) EndedAt: 2025-02-20 15:13:00 -0500 (Thu, 20 Feb 2025) EllapsedTime: 3.9 seconds RetCode: 0 Status: OK