Package: bugsigdbr Version: 1.13.0 Command: /Library/Frameworks/R.framework/Resources/bin/R CMD check --install=check:bugsigdbr.install-out.txt --library=/Library/Frameworks/R.framework/Resources/library --no-vignettes --timings bugsigdbr_1.13.0.tar.gz StartedAt: 2025-02-20 19:15:12 -0500 (Thu, 20 Feb 2025) EndedAt: 2025-02-20 19:18:52 -0500 (Thu, 20 Feb 2025) EllapsedTime: 220.4 seconds RetCode: 1 Status: ERROR CheckDir: bugsigdbr.Rcheck Warnings: NA