Package: bugsigdbr Version: 1.13.0 Command: /Library/Frameworks/R.framework/Resources/bin/R CMD build --keep-empty-dirs --no-resave-data bugsigdbr StartedAt: 2025-02-20 16:04:55 -0500 (Thu, 20 Feb 2025) EndedAt: 2025-02-20 16:05:45 -0500 (Thu, 20 Feb 2025) EllapsedTime: 49.2 seconds RetCode: 0 Status: OK PackageFile: bugsigdbr_1.13.0.tar.gz PackageFileSize: 328.9 KiB