Package: bugsigdbr Version: 1.13.0 Command: rm -rf bugsigdbr.buildbin-libdir && mkdir bugsigdbr.buildbin-libdir && /Users/biocbuild/BBS/utils/build-universal.sh bugsigdbr_1.13.0.tar.gz /Library/Frameworks/R.framework/Resources/bin/R bugsigdbr.buildbin-libdir StartedAt: 2025-02-21 00:22:02 -0500 (Fri, 21 Feb 2025) EndedAt: 2025-02-21 00:22:06 -0500 (Fri, 21 Feb 2025) EllapsedTime: 4.7 seconds RetCode: 0 Status: OK PackageFile: bugsigdbr_1.13.0.tgz PackageFileSize: 360.7 KiB