Package: bugsigdbr Version: 1.13.0 Command: /Library/Frameworks/R.framework/Resources/bin/R CMD INSTALL bugsigdbr StartedAt: 2025-02-20 15:07:10 -0500 (Thu, 20 Feb 2025) EndedAt: 2025-02-20 15:07:12 -0500 (Thu, 20 Feb 2025) EllapsedTime: 1.4 seconds RetCode: 0 Status: OK