Package: bsseq Version: 1.43.1 Command: rm -rf bsseq.buildbin-libdir && mkdir bsseq.buildbin-libdir && E:\biocbuild\bbs-3.21-bioc\R\bin\R.exe CMD INSTALL --build --library=bsseq.buildbin-libdir bsseq_1.43.1.tar.gz StartedAt: 2025-02-20 07:23:49 -0500 (Thu, 20 Feb 2025) EndedAt: 2025-02-20 07:25:41 -0500 (Thu, 20 Feb 2025) EllapsedTime: 111.5 seconds RetCode: 0 Status: OK PackageFile: bsseq_1.43.1.zip PackageFileSize: 3.863 MiB