Package: broadSeq Version: 1.1.0 Command: E:\biocbuild\bbs-3.21-bioc\R\bin\R.exe CMD INSTALL broadSeq StartedAt: 2025-02-19 16:56:28 -0500 (Wed, 19 Feb 2025) EndedAt: 2025-02-19 16:57:11 -0500 (Wed, 19 Feb 2025) EllapsedTime: 43.6 seconds RetCode: 0 Status: OK