Package: broadSeq Version: 1.1.0 Command: /home/biocbuild/bbs-3.21-bioc/R/bin/R CMD build --keep-empty-dirs --no-resave-data broadSeq StartedAt: 2025-02-20 16:44:11 -0500 (Thu, 20 Feb 2025) EndedAt: 2025-02-20 16:46:24 -0500 (Thu, 20 Feb 2025) EllapsedTime: 133.1 seconds RetCode: 0 Status: OK PackageFile: broadSeq_1.1.0.tar.gz PackageFileSize: 4.08 MiB