Package: brendaDb Version: 1.21.0 Command: E:\biocbuild\bbs-3.21-bioc\R\bin\R.exe CMD check --no-multiarch --install=check:brendaDb.install-out.txt --library=E:\biocbuild\bbs-3.21-bioc\R\library --no-vignettes --timings brendaDb_1.21.0.tar.gz StartedAt: 2025-02-20 23:24:41 -0500 (Thu, 20 Feb 2025) EndedAt: 2025-02-20 23:26:50 -0500 (Thu, 20 Feb 2025) EllapsedTime: 129.9 seconds RetCode: 0 Status: OK CheckDir: brendaDb.Rcheck Warnings: 0