Package: brendaDb Version: 1.21.0 Command: chmod a+r brendaDb -R && E:\biocbuild\bbs-3.21-bioc\R\bin\R.exe CMD build --keep-empty-dirs --no-resave-data brendaDb StartedAt: 2025-02-20 17:37:26 -0500 (Thu, 20 Feb 2025) EndedAt: 2025-02-20 17:38:31 -0500 (Thu, 20 Feb 2025) EllapsedTime: 65.1 seconds RetCode: 0 Status: OK PackageFile: brendaDb_1.21.0.tar.gz PackageFileSize: 651.1 KiB