Package: brendaDb Version: 1.21.0 Command: /home/biocbuild/bbs-3.21-bioc/R/bin/R CMD INSTALL brendaDb StartedAt: 2025-02-20 15:16:36 -0500 (Thu, 20 Feb 2025) EndedAt: 2025-02-20 15:16:47 -0500 (Thu, 20 Feb 2025) EllapsedTime: 11.3 seconds RetCode: 0 Status: OK