Package: brendaDb Version: 1.21.0 Command: /Library/Frameworks/R.framework/Resources/bin/R CMD build --keep-empty-dirs --no-resave-data brendaDb StartedAt: 2025-02-20 16:04:21 -0500 (Thu, 20 Feb 2025) EndedAt: 2025-02-20 16:04:48 -0500 (Thu, 20 Feb 2025) EllapsedTime: 26.3 seconds RetCode: 0 Status: OK PackageFile: brendaDb_1.21.0.tar.gz PackageFileSize: 650.8 KiB