Package: brendaDb Version: 1.21.0 Command: rm -rf brendaDb.buildbin-libdir && mkdir brendaDb.buildbin-libdir && /Users/biocbuild/BBS/utils/build-universal.sh brendaDb_1.21.0.tar.gz /Library/Frameworks/R.framework/Resources/bin/R brendaDb.buildbin-libdir StartedAt: 2025-02-21 00:21:46 -0500 (Fri, 21 Feb 2025) EndedAt: 2025-02-21 00:22:04 -0500 (Fri, 21 Feb 2025) EllapsedTime: 18.4 seconds RetCode: 0 Status: OK PackageFile: brendaDb_1.21.0.tgz PackageFileSize: 764.7 KiB