Package: breakpointR Version: 1.25.0 Command: E:\biocbuild\bbs-3.21-bioc\R\bin\R.exe CMD INSTALL breakpointR StartedAt: 2025-02-20 16:08:38 -0500 (Thu, 20 Feb 2025) EndedAt: 2025-02-20 16:09:17 -0500 (Thu, 20 Feb 2025) EllapsedTime: 38.8 seconds RetCode: 0 Status: OK