Package: breakpointR Version: 1.25.0 Command: rm -rf breakpointR.buildbin-libdir && mkdir breakpointR.buildbin-libdir && E:\biocbuild\bbs-3.21-bioc\R\bin\R.exe CMD INSTALL --build --library=breakpointR.buildbin-libdir breakpointR_1.25.0.tar.gz StartedAt: 2025-02-21 07:41:21 -0500 (Fri, 21 Feb 2025) EndedAt: 2025-02-21 07:42:15 -0500 (Fri, 21 Feb 2025) EllapsedTime: 54.7 seconds RetCode: 0 Status: OK PackageFile: breakpointR_1.25.0.zip PackageFileSize: 556.7 KiB