Package: breakpointR Version: 1.25.0 Command: /home/biocbuild/bbs-3.21-bioc/R/bin/R CMD check --install=check:breakpointR.install-out.txt --library=/home/biocbuild/bbs-3.21-bioc/R/site-library --timings breakpointR_1.25.0.tar.gz StartedAt: 2025-02-20 20:26:11 -0500 (Thu, 20 Feb 2025) EndedAt: 2025-02-20 20:30:45 -0500 (Thu, 20 Feb 2025) EllapsedTime: 273.3 seconds RetCode: 0 Status: OK CheckDir: breakpointR.Rcheck Warnings: 0