Package: breakpointR Version: 1.25.0 Command: /Library/Frameworks/R.framework/Resources/bin/R CMD build --keep-empty-dirs --no-resave-data breakpointR StartedAt: 2025-02-20 16:04:19 -0500 (Thu, 20 Feb 2025) EndedAt: 2025-02-20 16:05:32 -0500 (Thu, 20 Feb 2025) EllapsedTime: 73.1 seconds RetCode: 0 Status: OK PackageFile: breakpointR_1.25.0.tar.gz PackageFileSize: 818.6 KiB