Package: breakpointR Version: 1.25.0 Command: rm -rf breakpointR.buildbin-libdir && mkdir breakpointR.buildbin-libdir && /Users/biocbuild/BBS/utils/build-universal.sh breakpointR_1.25.0.tar.gz /Library/Frameworks/R.framework/Resources/bin/R breakpointR.buildbin-libdir StartedAt: 2025-02-21 00:21:46 -0500 (Fri, 21 Feb 2025) EndedAt: 2025-02-21 00:22:27 -0500 (Fri, 21 Feb 2025) EllapsedTime: 41.4 seconds RetCode: 0 Status: OK PackageFile: breakpointR_1.25.0.tgz PackageFileSize: 551.8 KiB