Package: breakpointR Version: 1.25.0 Command: /Library/Frameworks/R.framework/Resources/bin/R CMD INSTALL breakpointR StartedAt: 2025-02-21 15:08:41 -0500 (Fri, 21 Feb 2025) EndedAt: 2025-02-21 15:08:52 -0500 (Fri, 21 Feb 2025) EllapsedTime: 11.9 seconds RetCode: 0 Status: OK