Package: branchpointer Version: 1.33.0 Command: /home/biocbuild/bbs-3.21-bioc/R/bin/R CMD check --install=check:branchpointer.install-out.txt --library=/home/biocbuild/bbs-3.21-bioc/R/site-library --timings branchpointer_1.33.0.tar.gz StartedAt: 2025-02-21 20:47:15 -0500 (Fri, 21 Feb 2025) EndedAt: 2025-02-21 20:52:51 -0500 (Fri, 21 Feb 2025) EllapsedTime: 335.4 seconds RetCode: 0 Status: OK CheckDir: branchpointer.Rcheck Warnings: 0