Package: branchpointer Version: 1.34.0 Command: /Library/Frameworks/R.framework/Resources/bin/R CMD INSTALL branchpointer StartedAt: 2025-10-13 16:03:25 -0400 (Mon, 13 Oct 2025) EndedAt: 2025-10-13 16:05:08 -0400 (Mon, 13 Oct 2025) EllapsedTime: 103.5 seconds RetCode: 0 Status: OK