Package: branchpointer Version: 1.34.0 Command: /Library/Frameworks/R.framework/Resources/bin/R CMD INSTALL branchpointer StartedAt: 2025-10-02 17:05:17 -0400 (Thu, 02 Oct 2025) EndedAt: 2025-10-02 17:06:22 -0400 (Thu, 02 Oct 2025) EllapsedTime: 64.7 seconds RetCode: 0 Status: OK