Package: branchpointer Version: 1.34.0 Command: rm -rf branchpointer.buildbin-libdir && mkdir branchpointer.buildbin-libdir && /Users/biocbuild/BBS/utils/build-universal.sh branchpointer_1.34.0.tar.gz /Library/Frameworks/R.framework/Resources/bin/R branchpointer.buildbin-libdir StartedAt: 2025-10-04 17:09:34 -0400 (Sat, 04 Oct 2025) EndedAt: 2025-10-04 17:10:45 -0400 (Sat, 04 Oct 2025) EllapsedTime: 71.4 seconds RetCode: 0 Status: OK PackageFile: branchpointer_1.34.0.tgz PackageFileSize: 4.319 MiB