Package: borealis Version: 1.11.0 Command: E:\biocbuild\bbs-3.21-bioc\R\bin\R.exe CMD INSTALL borealis StartedAt: 2025-02-19 16:37:26 -0500 (Wed, 19 Feb 2025) EndedAt: 2025-02-19 16:38:14 -0500 (Wed, 19 Feb 2025) EllapsedTime: 48.3 seconds RetCode: 0 Status: OK