Package: borealis Version: 1.11.0 Command: chmod a+r borealis -R && E:\biocbuild\bbs-3.21-bioc\R\bin\R.exe CMD build --keep-empty-dirs --no-resave-data borealis StartedAt: 2025-02-19 17:35:26 -0500 (Wed, 19 Feb 2025) EndedAt: 2025-02-19 17:37:40 -0500 (Wed, 19 Feb 2025) EllapsedTime: 133.5 seconds RetCode: 0 Status: OK PackageFile: borealis_1.11.0.tar.gz PackageFileSize: 342.7 KiB