Package: borealis Version: 1.11.0 Command: /home/biocbuild/bbs-3.21-bioc/R/bin/R CMD INSTALL borealis StartedAt: 2025-02-19 15:36:09 -0500 (Wed, 19 Feb 2025) EndedAt: 2025-02-19 15:36:48 -0500 (Wed, 19 Feb 2025) EllapsedTime: 38.9 seconds RetCode: 0 Status: OK