Package: borealis Version: 1.11.0 Command: /Library/Frameworks/R.framework/Resources/bin/R CMD INSTALL borealis StartedAt: 2025-02-19 15:34:01 -0500 (Wed, 19 Feb 2025) EndedAt: 2025-02-19 15:34:54 -0500 (Wed, 19 Feb 2025) EllapsedTime: 52.6 seconds RetCode: 0 Status: OK