Package: borealis Version: 1.11.0 Command: /Library/Frameworks/R.framework/Resources/bin/R CMD build --keep-empty-dirs --no-resave-data borealis StartedAt: 2025-02-19 15:44:42 -0500 (Wed, 19 Feb 2025) EndedAt: 2025-02-19 15:45:25 -0500 (Wed, 19 Feb 2025) EllapsedTime: 42.4 seconds RetCode: 0 Status: OK PackageFile: borealis_1.11.0.tar.gz PackageFileSize: 426.4 KiB