Package: bnem Version: 1.15.0 Command: /home/biocbuild/bbs-3.21-bioc/R/bin/R CMD INSTALL bnem StartedAt: 2025-02-17 15:29:54 -0500 (Mon, 17 Feb 2025) EndedAt: 2025-02-17 15:30:27 -0500 (Mon, 17 Feb 2025) EllapsedTime: 33.8 seconds RetCode: 0 Status: OK