Package: bnem Version: 1.15.0 Command: /home/biocbuild/bbs-3.21-bioc/R/bin/R CMD build --keep-empty-dirs --no-resave-data bnem StartedAt: 2025-02-17 16:25:12 -0500 (Mon, 17 Feb 2025) EndedAt: 2025-02-17 16:26:15 -0500 (Mon, 17 Feb 2025) EllapsedTime: 63.0 seconds RetCode: 0 Status: OK PackageFile: bnem_1.15.0.tar.gz PackageFileSize: 1.869 MiB