Package: bnem Version: 1.15.0 Command: /Library/Frameworks/R.framework/Resources/bin/R CMD check --install=check:bnem.install-out.txt --library=/Library/Frameworks/R.framework/Resources/library --no-vignettes --timings bnem_1.15.0.tar.gz StartedAt: 2025-02-17 19:10:47 -0500 (Mon, 17 Feb 2025) EndedAt: 2025-02-17 19:15:27 -0500 (Mon, 17 Feb 2025) EllapsedTime: 280.2 seconds RetCode: 0 Status: OK CheckDir: bnem.Rcheck Warnings: 0