Package: bnem Version: 1.15.0 Command: rm -rf bnem.buildbin-libdir && mkdir bnem.buildbin-libdir && /Users/biocbuild/BBS/utils/build-universal.sh bnem_1.15.0.tar.gz /Library/Frameworks/R.framework/Resources/bin/R bnem.buildbin-libdir StartedAt: 2025-02-18 22:15:04 -0500 (Tue, 18 Feb 2025) EndedAt: 2025-02-18 22:15:20 -0500 (Tue, 18 Feb 2025) EllapsedTime: 15.3 seconds RetCode: 0 Status: OK PackageFile: bnem_1.15.0.tgz PackageFileSize: 1.957 MiB