Package: bnbc Version: 1.29.0 Command: rm -rf bnbc.buildbin-libdir && mkdir bnbc.buildbin-libdir && /Users/biocbuild/BBS/utils/build-universal.sh bnbc_1.29.0.tar.gz /Library/Frameworks/R.framework/Resources/bin/R bnbc.buildbin-libdir StartedAt: 2025-02-21 00:21:36 -0500 (Fri, 21 Feb 2025) EndedAt: 2025-02-21 00:22:36 -0500 (Fri, 21 Feb 2025) EllapsedTime: 60.0 seconds RetCode: 0 Status: OK PackageFile: bnbc_1.29.0.tgz PackageFileSize: 4.566 MiB