Package: bnbc Version: 1.29.0 Command: /Library/Frameworks/R.framework/Resources/bin/R CMD INSTALL bnbc StartedAt: 2025-02-20 15:20:46 -0500 (Thu, 20 Feb 2025) EndedAt: 2025-02-20 15:21:03 -0500 (Thu, 20 Feb 2025) EllapsedTime: 16.1 seconds RetCode: 0 Status: OK