Package: bnbc Version: 1.29.0 Command: rm -rf bnbc.buildbin-libdir && mkdir bnbc.buildbin-libdir && /Users/biocbuild/BBS/utils/build-universal.sh bnbc_1.29.0.tar.gz /Library/Frameworks/R.framework/Resources/bin/R bnbc.buildbin-libdir StartedAt: 2025-02-20 22:12:05 -0500 (Thu, 20 Feb 2025) EndedAt: 2025-02-20 22:12:24 -0500 (Thu, 20 Feb 2025) EllapsedTime: 18.4 seconds RetCode: 0 Status: OK PackageFile: bnbc_1.29.0.tgz PackageFileSize: 4.565 MiB