Package: bluster Version: 1.17.0 Command: /Library/Frameworks/R.framework/Resources/bin/R CMD build --keep-empty-dirs --no-resave-data bluster StartedAt: 2025-02-17 15:44:25 -0500 (Mon, 17 Feb 2025) EndedAt: 2025-02-17 15:45:06 -0500 (Mon, 17 Feb 2025) EllapsedTime: 40.4 seconds RetCode: 0 Status: OK PackageFile: bluster_1.17.0.tar.gz PackageFileSize: 3.292 MiB