Package: blima Version: 1.41.0 Command: E:\biocbuild\bbs-3.21-bioc\R\bin\R.exe CMD check --no-multiarch --install=check:blima.install-out.txt --library=E:\biocbuild\bbs-3.21-bioc\R\library --no-vignettes --timings blima_1.41.0.tar.gz StartedAt: 2025-02-20 23:21:27 -0500 (Thu, 20 Feb 2025) EndedAt: 2025-02-20 23:24:04 -0500 (Thu, 20 Feb 2025) EllapsedTime: 156.8 seconds RetCode: 0 Status: OK CheckDir: blima.Rcheck Warnings: 0