Package: blima Version: 1.41.0 Command: chmod a+r blima -R && E:\biocbuild\bbs-3.21-bioc\R\bin\R.exe CMD build --keep-empty-dirs --no-resave-data blima StartedAt: 2025-02-20 17:35:33 -0500 (Thu, 20 Feb 2025) EndedAt: 2025-02-20 17:42:23 -0500 (Thu, 20 Feb 2025) EllapsedTime: 410.4 seconds RetCode: 0 Status: OK PackageFile: blima_1.41.0.tar.gz PackageFileSize: 266.3 KiB