Package: blima Version: 1.41.0 Command: rm -rf blima.buildbin-libdir && mkdir blima.buildbin-libdir && E:\biocbuild\bbs-3.21-bioc\R\bin\R.exe CMD INSTALL --build --library=blima.buildbin-libdir blima_1.41.0.tar.gz StartedAt: 2025-02-21 07:40:37 -0500 (Fri, 21 Feb 2025) EndedAt: 2025-02-21 07:41:31 -0500 (Fri, 21 Feb 2025) EllapsedTime: 54.0 seconds RetCode: 0 Status: OK PackageFile: blima_1.41.0.zip PackageFileSize: 736.9 KiB